BEGIN:VCALENDAR
VERSION:2.0
PRODID:-//Elegant - ECPv5.8.0//NONSGML v1.0//EN
CALSCALE:GREGORIAN
METHOD:PUBLISH
X-WR-CALNAME:Elegant
X-ORIGINAL-URL:https://elegantspolek.cz
X-WR-CALDESC:Akce na Elegant
BEGIN:VTIMEZONE
TZID:Europe/Prague
BEGIN:DAYLIGHT
TZOFFSETFROM:+0100
TZOFFSETTO:+0200
TZNAME:CEST
DTSTART:20260329T010000
END:DAYLIGHT
BEGIN:STANDARD
TZOFFSETFROM:+0200
TZOFFSETTO:+0100
TZNAME:CET
DTSTART:20261025T010000
END:STANDARD
END:VTIMEZONE
BEGIN:VEVENT
DTSTART;TZID=Europe/Prague:20260314T180000
DTEND;TZID=Europe/Prague:20260315T020000
DTSTAMP:20260419T140207
CREATED:20231216T120242Z
LAST-MODIFIED:20260310T094611Z
UID:9806-1773511200-1773540000@elegantspolek.cz
SUMMARY:Program
DESCRIPTION:OD 18 HOD. ZPŘÍSTUPNĚNÍ SÁLU\nŠatna se nachází v přízemí.\nV přízemí Clubu Alfa\, vedle šatny u vchodu do budovy\, na Vás budou čekat naše letušky\, u kterých si budete moci vyměnit své elektronické vstupenky za vstupenky s kupóny na kávu a dezert.\nV 1. patře před vstupem do hlavního sálu bude připraven welcome drink\, malé dárky\, květiny a foto koutky.\nNaše hostesky vám zde rády předají veškeré informace a ukážou umístění vašeho stolu\nBary budou v provozu již od 18 hodiny.\nBAR  bude mít v nabídce kolekci vín Rodinného vinařství Gréger\, míchané nápoje a speciální drinky\, kávu\, alko\, nealko\, čepované pivo\, dezerty a další občerstvení. \n18 HOD. ZPŘÍSTUPNĚNÍ SÁLU\nČarostroj\, welcome drink\, bary v provozu. \n19 HOD. SLAVNOSTNÍ ZAHÁJENÍ\nUvítání\, seznámení s programem\, porotou soutěže o nejlepší masku a 20-ti členným orchestrem Dolbend. \nDalší program odtajníme v den konání plesu.\nKouzla\, čáry\, taneční vystoupení\, workshopy\, dech beroucí akrobatická představení\, krásné tanečnice a mnohá další překvapení s múzami.\nPřehledný program a další cenné informace najdete na svých stolech. \n  \n\n19:30- 22 HOD. PRODEJ: ZÁŽITKOVÁ TOMBOLA\n\n\n\nZážitková tombola se nám hezky plní a letos bude opravdu na super zážitky bohatá\, nebudou chybět vstupenky na koncerty\, plesy ale také zážitkové lázně\, pobyty a další překvapení.\nCelý seznam zážitků\, které můžete vyhrát v naší tombole zveřejníme až v den konání letu. Seznam zážitků bude umístěn na každém stole\, společně s programem a dalšími informacemi. \n  \n24:00 HOD. \nLOSOVÁNÍ ZÁŽITKOVÉ TOMBOLY\nVYHLÁŠENÍ VÍTĚZE SOUTĚŽE O NEJLEPŠÍ MASKU\nTÉMA MAŠKARNÍHO PLESU 2026\n\n\n\n  \nZakončení moderované části plesu.\nVolná zábava s Dolbendem. \n  \n02 HOD. UKONČENÍ PLESU
URL:https://elegantspolek.cz/akce/program-plesu-letem-svete/
END:VEVENT
END:VCALENDAR